BEGIN:VCALENDAR
VERSION:2.0
PRODID:-//Remick Country Doctor Museum and Farm - ECPv6.15.11//NONSGML v1.0//EN
CALSCALE:GREGORIAN
METHOD:PUBLISH
X-WR-CALNAME:Remick Country Doctor Museum and Farm
X-ORIGINAL-URL:https://www.remickmuseum.org
X-WR-CALDESC:Events for Remick Country Doctor Museum and Farm
REFRESH-INTERVAL;VALUE=DURATION:PT1H
X-Robots-Tag:noindex
X-PUBLISHED-TTL:PT1H
BEGIN:VTIMEZONE
TZID:America/New_York
BEGIN:DAYLIGHT
TZOFFSETFROM:-0500
TZOFFSETTO:-0400
TZNAME:EDT
DTSTART:20250309T070000
END:DAYLIGHT
BEGIN:STANDARD
TZOFFSETFROM:-0400
TZOFFSETTO:-0500
TZNAME:EST
DTSTART:20251102T060000
END:STANDARD
BEGIN:DAYLIGHT
TZOFFSETFROM:-0500
TZOFFSETTO:-0400
TZNAME:EDT
DTSTART:20260308T070000
END:DAYLIGHT
BEGIN:STANDARD
TZOFFSETFROM:-0400
TZOFFSETTO:-0500
TZNAME:EST
DTSTART:20261101T060000
END:STANDARD
BEGIN:DAYLIGHT
TZOFFSETFROM:-0500
TZOFFSETTO:-0400
TZNAME:EDT
DTSTART:20270314T070000
END:DAYLIGHT
BEGIN:STANDARD
TZOFFSETFROM:-0400
TZOFFSETTO:-0500
TZNAME:EST
DTSTART:20271107T060000
END:STANDARD
END:VTIMEZONE
BEGIN:VEVENT
DTSTART;TZID=America/New_York:20260424T090000
DTEND;TZID=America/New_York:20260424T160000
DTSTAMP:20260419T095602
CREATED:20260403T141618Z
LAST-MODIFIED:20260411T203210Z
UID:2408-1777021200-1777046400@www.remickmuseum.org
SUMMARY:“Wet Paint Tamworth” at Remick
DESCRIPTION:Wet Paint Tamworth returns to Remick on Friday\, April 24 (times listed are approximate)! This 7th annual painters’ retreat\, organized by The Preserve at Chocorua\, provides professional artists with a collective and immersive time to paint outdoors\, en plein air. This year’s event takes place Thursday\, April 23–Saturday\, April 25 (daily schedule). Each day of the retreat\, the group gathers at various scenic and sought-out locations across Tamworth\, including Remick. While on-site\, the artists welcome visitors to observe them as they paint and enjoy interacting with interested onlookers. It’s always a special time at the farmstead\, and the resulting paintings allow us and visitors to see this historic site through the artists’ perspectives. \nAs a group\, the painters are encouraged to paint at a pre-selected site on a given day. Some choose to paint at Remick on an additional day. Over the course of this annual event\, numerous artists have let us know that Remick is their preferred spot to paint during the retreat due to its variety of inspiring subject matter: scenery\, architecture\, pond\, twisting paths\, animals\, birds\, Mt. Chocorua… \nPaintings done during the retreat will be on public display in The Hayford Barn at The Preserve\, Thursday\, April 23–Saturday\, April 25. A portion of all sales will benefit the NH Food Bank’s Summer Nutrition Program\, which provides food for kids during their summer break. (Remick was pleased to be able to provide a meal boxing space for this program in 2025.)
URL:https://www.remickmuseum.org/event/wet-paint-tamworth-at-remick/
LOCATION:Tamworth\, New Hampshire
CATEGORIES:Activity,Arts & Theater,Community Event,Demonstration,Hosted Event,Special Event
ATTACH;FMTTYPE=image/jpeg:https://www.remickmuseum.org/wp-content/uploads/2026/04/Wet-Paint-Tamworth.jpg
END:VEVENT
BEGIN:VEVENT
DTSTART;TZID=America/New_York:20260502T110000
DTEND;TZID=America/New_York:20260502T120000
DTSTAMP:20260419T095602
CREATED:20250304T191914Z
LAST-MODIFIED:20260224T143623Z
UID:891-1777719600-1777723200@www.remickmuseum.org
SUMMARY:Beginning Birding
DESCRIPTION:Learn all about backyard birding on the Remick farmstead! Participants will take a leisurely stroll around the Binsack Trail and historic farmstead grounds to learn about bird behavior and physiology\, migration\, and bird watching basics. \nActivity length: 45–60 minutes.\nA limited number of small binoculars will be available to borrow; feel free to bring your own.\nThis is an outdoor program; participants should be prepared for the weather conditions of that day\, rain or shine. \n$5  | FREE for members*\n*Remick Ramblers and Museum Maven levels only.\nAll ages; ages 17 and under must be accompanied by an adult.\nSpots are limited; preregistration is required.\nDress for the weather and ground conditions of the day.\n\nWays to register: Online | Call (603) 323-7591 | Email | On-site at the front desk no later than 10:45 a.m. \n  \nRELATED ACTIVITIES \n+ Marion Miles Remick Bird Walk\, Saturday\, May 23 | 11:00 a.m. \n 
URL:https://www.remickmuseum.org/event/beginning-birding/
LOCATION:Remick Country Doctor Museum & Farm\, 58 Cleveland Hill Rd\, Tamworth\, NH\, 03886\, United States
CATEGORIES:Activity,Walkabout Presentation
ATTACH;FMTTYPE=image/jpeg:https://www.remickmuseum.org/wp-content/uploads/2025/03/Canada-Geese.jpg
END:VEVENT
BEGIN:VEVENT
DTSTART;TZID=America/New_York:20260514T183000
DTEND;TZID=America/New_York:20260514T193000
DTSTAMP:20260419T095602
CREATED:20260115T220542Z
LAST-MODIFIED:20260409T171928Z
UID:2122-1778783400-1778787000@www.remickmuseum.org
SUMMARY:“The Flat Iron Lot” presented by Pontine Theatre
DESCRIPTION:Don’t miss this special springtime event! We are pleased to welcome back Portsmouth’s Pontine Theatre to Tamworth\, with a timely story about a fictional New Hampshire town as it celebrates its 250th birthday. \nThe Flat Iron Lot\nExperience an original stage adaptation of Alice Brown’s short story “The Flat Iron Lot\,” published in 1899. (The elder Dr. Remick was age 33 when this story was published\, in his 5th year of practicing medicine.) Set in the fictional town of Tiverton — based on Brown’s hometown of Hampton Falls\, NH — the story chronicles a rural New England community’s celebration of its 250th birthday. With fits and starts\, contention and compromise\, the residents organize historical reenactments\, a grand parade\, and speeches from civic leaders and the town’s beloved\, unofficial historian. In the end\, the townspeople enjoy a reinvigorated sense of civic pride and appreciation for the shared heritage that binds them as a community. \nThe story is an apt microcosm of the ambitions\, struggles and ideals of our upcoming national observance of the 250th anniversary of the signing of the Declaration of Independence. \nLISTEN TO Pontine Theatre discussing this performance with New Hampshire Public Radio’s Rick Ganley on March 11\, 2026. \nA “Flat Iron Lot” (or flatiron) is a distinctively triangular piece of land created by the intersection of roads at an acute angle. Often called a wedge or point lot\, this shape resembles an old-fashioned clothes iron\, making it prime\, albeit challenging\, real estate for unique\, angular buildings like New York’s famous Flatiron Building. Source: Google search. \n  \n \n+ Alice Brown (December 5\, 1857 – June 21\, 1948) was an American novelist\, poet and playwright\, best known as a writer of local-color stories. Born in Hampton Falls\, New Hampshire\, Ms. Brown graduated from Robinson Female Seminary in Exeter in 1876. She later worked as a teacher for five years\, but moved to Boston to write full-time in 1884. — Bio and photo source: Wikipedia. \n\nPontine’s Co-Artistic Directors and performers\, Marguerite Mathews and Greg Gathers\, have developed a special fondness for searching out rich\, historical literary gems and bringing them to life for audiences throughout the region. Pontine’s shows often feature antique stage techniques\, including rolling panoramas\, puppetry\, and toy theatre figures to bring stories alive onstage. Mr. Gathers creates all the props and sets used in the theatre’s productions. \n\n$10 | $5 for members*\nAges 14 and above; interested and patient attendees under age 14 are welcome.\nSpace is limited; preregister early to ensure your spot.\nThe program is approximately 60 minutes long.\nFollowing the performance\, view the theatre staging and props\, and interact with the artists. \nPURCHASE TICKETS\nMEMBERSHIP DISCOUNT (Remick Ramblers and Museum Maven levels): All ticketing is charged at the $10 ticket price; Remick membership discount will be refunded for both online and in-person sales once membership status is confirmed.\nNot sure if your membership is current? Give us a call at (603) 323-7591. \nAdditional ways to purchase tickets: Call (603) 323-7591 | Email | On-site\, while tickets remain \n*Remick Ramblers and Museum Maven levels only.\nNot sure if your membership is current? Give us a call at (603) 323-7591. \nRegistration & Cancellation Policies \n  \nThis event is part of our Spring at the Farmstead schedule. \n  \n\nABOUT PONTINE THEATRE \n \n  \n  \n  \n  \n  \n  \n  \n  \n  \n“Pontine Theatre is a small miracle. The theater has used puppets\, mime and stagecraft to convey visions of the past to modern audiences for more than 35 years. Artistic Directors Marguerite Mathews and Greg Gathers conspire to fascinate the contemporary mind with original works based on the stories and literature of New England. There’s really nothing else like it anywhere.” ~ NH Magazine \n“Since 1977\, Pontine Theatre has been an active participant in the development of actor-based theatre\, creating work that is engaging\, innovative and original. Co-Artistic Directors\, Marguerite Mathews and Gregory Gathers have produced over fifty original works. Creating and performing these works\, Pontine has introduced their unique form of theatre to audiences throughout New England\, transforming audience interest in gestural theatre\, puppetry\, toy theatre and storytelling into enthusiasm for this distinctive synthesis of forms. \n“In choosing projects for our at-home performance series and subsequent tours\, we endeavor to reflect the interests of the audiences we serve. We are fortunate to live and work in a region with a particularly rich history and a citizenry deeply interested in this legacy. As other cultural organizations work to preserve historic landmarks and significant architecture\, we have dedicated many of our performances to celebrating classic works of New England literature: some well-known\, others obscure gems. We also create works based on original research that explore various aspects of New England culture and history. \n“…Our intimately-scaled chamber productions are an ideal fit for the small-town audiences…. The intimate scale of our productions reflects an aesthetic choice to magnify the theatrical power and artistic integrity of our work through concentrated attention to the details of each element comprising the whole.” \n“…art has the capacity to reach us on multiple levels at the same time. It’s much more than an intellectual experience\, it’s also an emotional experience\, can be a spiritual experience\, can even be a physical experience. And there are very few times in life when all those aspects of our nature are brought together in the same place and we’re made aware of it. And I think it makes for a very deep bonding experience between actors and audience and between audience members. The fact that that performance happens only in that moment with everybody’s cooperation — it’s priceless. It’s absolutely priceless.” ~ Greg Gathers\, Co-Artistic Director of Pontine Theatre \n 
URL:https://www.remickmuseum.org/event/the-flat-iron-lot-presented-by-pontine-theatre/
LOCATION:Remick Country Doctor Museum & Farm\, 58 Cleveland Hill Rd\, Tamworth\, NH\, 03886\, United States
CATEGORIES:Arts & Theater,Special Event
ATTACH;FMTTYPE=image/jpeg:https://www.remickmuseum.org/wp-content/uploads/2026/01/The-Flat-Iron-Lot-Pontine-Thatre.jpg
END:VEVENT
BEGIN:VEVENT
DTSTART;TZID=America/New_York:20260516T103000
DTEND;TZID=America/New_York:20260516T120000
DTSTAMP:20260419T095602
CREATED:20250318T132001Z
LAST-MODIFIED:20260212T181930Z
UID:1006-1778927400-1778932800@www.remickmuseum.org
SUMMARY:From Landscape to Foodscape: Introduction to Container Gardening
DESCRIPTION:Short on time? Limited by space? Hampered by poor soil? \nIf you answer “yes” to any of these challenges\, container gardening might just be for you! Join us as we learn how to grow container-sized fruits and vegetables to maximize your summer harvest. From apartment balcony gardens to driveway container pots to even a more formal backyard potager plan\, you’ll learn how to choose the right-sized container and select appropriate plants as you work to create some food resiliency during these challenging times and reap healthy benefits along the way. \nThis program takes place indoors and outdoors and includes a hands-on activity in the Remick gardens.\nWorkshop leader: Cara Sutherland\, Remick Executive Director \n\nFREE for members | $5 for nonmembers\nFor ages 16+\, ages 17 and under must be accompanied by an adult.\nPreregistration is appreciated; walk-ins are welcome.\nFor more information\, call (603) 323-7591 or email info@remickmuseum.org. \nREGISTER NOW \n  \nCultivate resiliency in your backyard — join us for each From Landscape to Foodscape session.\nThis series is aimed at creating resiliency against rising prices at the supermarket\, as well as providing healthful\, nutritious fruits and vegetables from your backyard. \nMarch 21  Seed Starting\nApril 18  Soil Enhancements & Composting for Your Garden \n  \nImage: Markus Spiske via Unsplash
URL:https://www.remickmuseum.org/event/container-gardening/
LOCATION:Remick Country Doctor Museum & Farm\, 58 Cleveland Hill Rd\, Tamworth\, NH\, 03886\, United States
CATEGORIES:Walkabout Presentation
ATTACH;FMTTYPE=image/jpeg:https://www.remickmuseum.org/wp-content/uploads/2025/03/Container-gardening.jpg
END:VEVENT
BEGIN:VEVENT
DTSTART;TZID=America/New_York:20260523T110000
DTEND;TZID=America/New_York:20260523T120000
DTSTAMP:20260419T095602
CREATED:20250219T210542Z
LAST-MODIFIED:20260311T142541Z
UID:821-1779534000-1779537600@www.remickmuseum.org
SUMMARY:Marion Miles Remick Bird Walk
DESCRIPTION:During this guided walk\, you’ll discover for yourself the Remick property’s vital role in the lives of migratory birds. \nMarion Miles Remick (1906–1980) lived on this site from her marriage to Doc Remick in 1929 until her death. In addition to her interests in flower gardening\, cats\, and horse racing\, Marion enjoyed birdwatching. \nMarion’s interest in birding may have been encouraged by the grounds where she once lived\, which provide a sweeping landscape and a variety of bird habitats\, including forests\, fields and open water. Avid birders have spotted at least 89 bird species on the Remick grounds — see a sample list on eBird. Learn more about Marion and the “birds of Remick” with your interpretive guide while enjoying the expansive property. \nThe anniversary of Marion’s birth takes place on May 28 — 120 years ago. This activity is one way we honor her contribution to our site’s history\, often overshadowed by our wider story. \nActivity length: 45–60 minutes.\nBinoculars are recommended; dress for outdoor weather and changing conditions underfoot.\nTerrain: gravel paths\, uneven grassy fields and inclines. \n$5  |  FREE for members*\n*Remick Ramblers and Museum Maven levels only.\nFor ages 12+\, ages 17 and under must be accompanied by an adult.\nSpots are limited; preregistration is required.\nWays to register: Online | Call (603) 323-7591 | Email | On-site at the front desk no later than 10:45 a.m.\nDress for the weather and ground conditions of the day. \nRegistration & Cancellation Policies \n  \n\nMarion’s birding guides — complete with handwritten notes — and binoculars can be seen in her office area of the mid-century-style apartment she shared with her husband\, Doc Remick. \n\nMarion and Doc Remick. Date and location unknown. \n  \nRELATED ACTIVITIES\n \nA deeper dive into Marion’s world: \n+ Visit the Marion Miles Remick Memorial Garden\, located in front of the Museum Barn. \n+ Walk through the modest 2nd-floor apartment Marion shared with Doc Remick for 51 years (including her small kitchen—complete with a wood stove\, her hallway office\, and the hand-painted “wallpaper” she commissioned for their den). The apartment is located in the Museum Center. \n+ Beginning Birding\, Saturday\, May 2\, 11:00 a.m.
URL:https://www.remickmuseum.org/event/bird-walk/
LOCATION:Remick Country Doctor Museum & Farm\, 58 Cleveland Hill Rd\, Tamworth\, NH\, 03886\, United States
CATEGORIES:Activity
ATTACH;FMTTYPE=image/jpeg:https://www.remickmuseum.org/wp-content/uploads/2025/02/Spring-Blackbird.jpg
END:VEVENT
BEGIN:VEVENT
DTSTART;TZID=America/New_York:20260528T093000
DTEND;TZID=America/New_York:20260528T133000
DTSTAMP:20260419T095602
CREATED:20260107T204139Z
LAST-MODIFIED:20260107T210326Z
UID:2072-1779960600-1779975000@www.remickmuseum.org
SUMMARY:School-to-Farm Day 2026 (Carroll County)
DESCRIPTION:Once again\, New Hampshire Agriculture in the Classroom returns to Remick with its School-to-Farm Day for Carroll County! We look forward to welcoming this year’s local crop of fourth graders\, who are eager to learn about various types and forms of agriculture in New Hampshire and how they impact their lives. \nWhat are School-to-Farm Days?\nAs stated on the New Hampshire Agriculture in the Classroom website\, “The event brings together 4th-grade students from different elementary schools throughout the county for a day of learning about the importance of agriculture. Farmers and other professionals are on hand to present mini-lessons and demonstrations on topics such as beekeeping\, sheep raising\, wool carding and spinning\, dairy cows\, oxen\, maple sugaring\, vegetable production\, soil ecology\, chickens and more. Students visit the stations\, meet the experts\, see the animals and experience a taste of farm life.” EVENT FLYER \nRemick Country Doctor Museum & Farm has been pleased to serve as the host site for this impactful event for several years. If you are interested in participating — whether as a class or a demonstrator\, contact New Hampshire Agriculture in the Classroom to learn what’s possible. (This event is closed to the general public.) \n  \nTHE MISSION OF NEW HAMPSHIRE AGRICULTURE IN THE CLASSROOM\nOur goal is to increase the agricultural literacy of New Hampshire’s youth. Educational materials help to integrate agriculture\, food and natural resources into K-12 classrooms. By applying authentic agricultural examples to teach core curriculum concepts in science\, social studies\, math\, language arts and nutrition\, student awareness can be improved. These programs cultivate an understanding and appreciation of the food\, fiber and fuel systems that we all depend upon every day. \nLEARN MORE \nDIY SCHOOL-TO-FARM LESSONS \n  \n 
URL:https://www.remickmuseum.org/event/school-to-farm-day-2026/
LOCATION:Remick Country Doctor Museum & Farm\, 58 Cleveland Hill Rd\, Tamworth\, NH\, 03886\, United States
CATEGORIES:Activity,Demonstration,Presentation/Demonstration,Special Event
ATTACH;FMTTYPE=image/jpeg:https://www.remickmuseum.org/wp-content/uploads/2026/01/School-to-Farm-Day.jpg
ORGANIZER;CN="New Hampshire Agriculture in the Classroom":MAILTO:nhaitc@nhfarmbureau.org
END:VEVENT
BEGIN:VEVENT
DTSTART;TZID=America/New_York:20260711T103000
DTEND;TZID=America/New_York:20260711T130000
DTSTAMP:20260419T095602
CREATED:20260209T195402Z
LAST-MODIFIED:20260224T165829Z
UID:2242-1783765800-1783774800@www.remickmuseum.org
SUMMARY:Perfume-Making Workshop with Bloom Lab
DESCRIPTION:Discover the art of botanical perfumery with Sarah Yeager of Bloom Lab during this uniquely special perfume-blending event! The workshop begins with a guided tour of the Remick herbal garden\, then moves to the Remick Hearth Room\, where you will learn the basics of perfumery while creating your own custom botanical Eau de Parfum\, hand-blended to reflect your unique personality. \nPart art\, part science\, and a whole lot of fun and self-discovery — a perfect Saturday experience for anyone interested in perfumery or simply gathering with others while trying something *fragrantly* new. \n+ 30-minute garden tour \n+ 2-hour guided workshop \n+ One 30ml bottle of your own custom-blended eau de parfum \n\n$125 | $100 for members*\nAges 16 and above; children must be accompanied by an adult.\nSpace is limited to 10 participants; preregistration is required. \n\n\nREGISTER NOW\nMEMBERSHIP DISCOUNT (Remick Ramblers and Museum Maven levels): All ticketing is charged at the $125 ticket price; Remick membership discount will be refunded for both online and in-person sales once membership status is confirmed.\n \nAdditional ways  to register: Call (603) 323-7591 | Email \n*Remick Ramblers and Museum Maven levels only.\nNot sure if your membership is current? Give us a call at (603) 323-7591. \nRegistration & Cancellation Policies
URL:https://www.remickmuseum.org/event/perfume-making-workshop-with-bloom-lab/
LOCATION:Remick Country Doctor Museum & Farm\, 58 Cleveland Hill Rd\, Tamworth\, NH\, 03886\, United States
CATEGORIES:Activity,Class,Special Event,Workshop
ATTACH;FMTTYPE=image/jpeg:https://www.remickmuseum.org/wp-content/uploads/2026/02/Bloom-Lab.jpg
END:VEVENT
END:VCALENDAR